BEGIN:VCALENDAR
VERSION:2.0
PRODID:-//Village of Peotone - ECPv6.15.20//NONSGML v1.0//EN
CALSCALE:GREGORIAN
METHOD:PUBLISH
X-WR-CALNAME:Village of Peotone
X-ORIGINAL-URL:https://villageofpeotone.com
X-WR-CALDESC:Events for Village of Peotone
REFRESH-INTERVAL;VALUE=DURATION:PT1H
X-Robots-Tag:noindex
X-PUBLISHED-TTL:PT1H
BEGIN:VTIMEZONE
TZID:America/Chicago
BEGIN:DAYLIGHT
TZOFFSETFROM:-0600
TZOFFSETTO:-0500
TZNAME:CDT
DTSTART:20250309T080000
END:DAYLIGHT
BEGIN:STANDARD
TZOFFSETFROM:-0500
TZOFFSETTO:-0600
TZNAME:CST
DTSTART:20251102T070000
END:STANDARD
BEGIN:DAYLIGHT
TZOFFSETFROM:-0600
TZOFFSETTO:-0500
TZNAME:CDT
DTSTART:20260308T080000
END:DAYLIGHT
BEGIN:STANDARD
TZOFFSETFROM:-0500
TZOFFSETTO:-0600
TZNAME:CST
DTSTART:20261101T070000
END:STANDARD
BEGIN:DAYLIGHT
TZOFFSETFROM:-0600
TZOFFSETTO:-0500
TZNAME:CDT
DTSTART:20270314T080000
END:DAYLIGHT
BEGIN:STANDARD
TZOFFSETFROM:-0500
TZOFFSETTO:-0600
TZNAME:CST
DTSTART:20271107T070000
END:STANDARD
END:VTIMEZONE
BEGIN:VEVENT
DTSTART;TZID=America/Chicago:20260424T100000
DTEND;TZID=America/Chicago:20260424T160000
DTSTAMP:20260420T210201
CREATED:20260323T174557Z
LAST-MODIFIED:20260323T174557Z
UID:5013-1777024800-1777046400@villageofpeotone.com
SUMMARY:Spring Book Sale
DESCRIPTION:
URL:https://villageofpeotone.com/event/spring-book-sale-3/
CATEGORIES:Peotone Public Library
ATTACH;FMTTYPE=image/jpeg:https://villageofpeotone.com/wp-content/uploads/2026-FOL-Spring-Book-Sale-16-x-9.jpg
END:VEVENT
BEGIN:VEVENT
DTSTART;TZID=America/Chicago:20260425T100000
DTEND;TZID=America/Chicago:20260425T140000
DTSTAMP:20260420T210201
CREATED:20260323T174630Z
LAST-MODIFIED:20260323T174630Z
UID:5015-1777111200-1777125600@villageofpeotone.com
SUMMARY:Spring Book Sale
DESCRIPTION:
URL:https://villageofpeotone.com/event/spring-book-sale-4/
CATEGORIES:Peotone Public Library
ATTACH;FMTTYPE=image/jpeg:https://villageofpeotone.com/wp-content/uploads/2026-FOL-Spring-Book-Sale-16-x-9.jpg
END:VEVENT
BEGIN:VEVENT
DTSTART;TZID=America/Chicago:20260427T093000
DTEND;TZID=America/Chicago:20260427T200000
DTSTAMP:20260420T210201
CREATED:20260323T174831Z
LAST-MODIFIED:20260323T174831Z
UID:5020-1777282200-1777320000@villageofpeotone.com
SUMMARY:Puzzle Swap
DESCRIPTION:
URL:https://villageofpeotone.com/event/puzzle-swap/
CATEGORIES:Peotone Public Library
ATTACH;FMTTYPE=image/jpeg:https://villageofpeotone.com/wp-content/uploads/April-Adult-Puzzle-Swap.jpg
END:VEVENT
BEGIN:VEVENT
DTSTART;TZID=America/Chicago:20260505T140000
DTEND;TZID=America/Chicago:20260505T150000
DTSTAMP:20260420T210201
CREATED:20260420T154838Z
LAST-MODIFIED:20260420T154838Z
UID:5064-1777989600-1777993200@villageofpeotone.com
SUMMARY:Homeschool Hangout
DESCRIPTION:
URL:https://villageofpeotone.com/event/homeschool-hangout-2/
CATEGORIES:Peotone Public Library
ATTACH;FMTTYPE=image/jpeg:https://villageofpeotone.com/wp-content/uploads/Homeschool-Hangout.jpg
END:VEVENT
BEGIN:VEVENT
DTSTART;TZID=America/Chicago:20260505T183000
DTEND;TZID=America/Chicago:20260505T193000
DTSTAMP:20260420T210201
CREATED:20260420T155020Z
LAST-MODIFIED:20260420T155020Z
UID:5070-1778005800-1778009400@villageofpeotone.com
SUMMARY:Turning The Page Book Club
DESCRIPTION:
URL:https://villageofpeotone.com/event/turning-the-page-book-club/
CATEGORIES:Peotone Public Library
ATTACH;FMTTYPE=image/jpeg:https://villageofpeotone.com/wp-content/uploads/May-Turning-the-Page-Book-Discussion.jpg
END:VEVENT
BEGIN:VEVENT
DTSTART;TZID=America/Chicago:20260511T080000
DTEND;TZID=America/Chicago:20260511T170000
DTSTAMP:20260420T210201
CREATED:20260420T155201Z
LAST-MODIFIED:20260420T155201Z
UID:5076-1778486400-1778518800@villageofpeotone.com
SUMMARY:Teen Take & Make
DESCRIPTION:Registration Required
URL:https://villageofpeotone.com/event/teen-take-make/
CATEGORIES:Peotone Public Library
ATTACH;FMTTYPE=image/jpeg:https://villageofpeotone.com/wp-content/uploads/Teen-May-Take-Make.jpg
END:VEVENT
BEGIN:VEVENT
DTSTART;TZID=America/Chicago:20260512T140000
DTEND;TZID=America/Chicago:20260512T150000
DTSTAMP:20260420T210201
CREATED:20260420T155110Z
LAST-MODIFIED:20260420T155110Z
UID:5073-1778594400-1778598000@villageofpeotone.com
SUMMARY:Notice Nook
DESCRIPTION:Lloyd Bate Park \n1001 E Hauert St\, Peotone
URL:https://villageofpeotone.com/event/notice-nook/
CATEGORIES:Peotone Public Library
ATTACH;FMTTYPE=image/jpeg:https://villageofpeotone.com/wp-content/uploads/Notice-Nook.jpg
END:VEVENT
BEGIN:VEVENT
DTSTART;TZID=America/Chicago:20260520T180000
DTEND;TZID=America/Chicago:20260520T190000
DTSTAMP:20260420T210201
CREATED:20260420T154937Z
LAST-MODIFIED:20260420T154937Z
UID:5067-1779300000-1779303600@villageofpeotone.com
SUMMARY:In-Stitches Club
DESCRIPTION:Hosted at the Monee Historical Society\n5210 W. Court St\, Monee\, IL 60449
URL:https://villageofpeotone.com/event/in-stitches-club/
CATEGORIES:Peotone Public Library
ATTACH;FMTTYPE=image/jpeg:https://villageofpeotone.com/wp-content/uploads/May-In-Stitches-Club-@-MHS.jpg
END:VEVENT
BEGIN:VEVENT
DTSTART;TZID=America/Chicago:20260526T180000
DTEND;TZID=America/Chicago:20260526T190000
DTSTAMP:20260420T210201
CREATED:20260420T155254Z
LAST-MODIFIED:20260420T155310Z
UID:5079-1779818400-1779822000@villageofpeotone.com
SUMMARY:Terry Lynch MHS
DESCRIPTION:Registration Required
URL:https://villageofpeotone.com/event/terry-lynch-mhs/
CATEGORIES:Peotone Public Library
ATTACH;FMTTYPE=image/jpeg:https://villageofpeotone.com/wp-content/uploads/Terry-Lynch-MHS-May-2026.jpg
END:VEVENT
END:VCALENDAR